BEGIN:VCALENDAR
VERSION:2.0
PRODID:-//The Institute of Chartered Accountants of Pakistan - ECPv6.15.20//NONSGML v1.0//EN
CALSCALE:GREGORIAN
METHOD:PUBLISH
X-WR-CALNAME:The Institute of Chartered Accountants of Pakistan
X-ORIGINAL-URL:https://icap.org.pk
X-WR-CALDESC:Events for The Institute of Chartered Accountants of Pakistan
REFRESH-INTERVAL;VALUE=DURATION:PT1H
X-Robots-Tag:noindex
X-PUBLISHED-TTL:PT1H
BEGIN:VTIMEZONE
TZID:UTC
BEGIN:STANDARD
TZOFFSETFROM:+0000
TZOFFSETTO:+0000
TZNAME:UTC
DTSTART:20250101T000000
END:STANDARD
END:VTIMEZONE
BEGIN:VEVENT
DTSTART;VALUE=DATE:20260406
DTEND;VALUE=DATE:20260407
DTSTAMP:20260421T194459
CREATED:20251223T131115Z
LAST-MODIFIED:20251223T131218Z
UID:11635-1775433600-1775519999@icap.org.pk
SUMMARY:The Professional Excellence Awards (PEA)
DESCRIPTION:The Professional Excellence Awards (PEA) return for their fourth edition to celebrate the outstanding achievements of ICAP members across the business landscape\, including corporates\, NPOs\, public sector entities\, and other institutions.    \nThese prestigious awards highlight exemplary leadership\, innovation\, and value creation—showcasing the\nsignificant impact ICAP professionals have in shaping industries and driving progress. Members have an opportunity to nominate themselves or other potential members under six predefined award categories.
URL:https://icap.org.pk/event/the-professional-excellence-awards-pea/
CATEGORIES:Awards
ATTACH;FMTTYPE=image/jpeg:https://icap.org.pk/wp-content/uploads/2025/12/PEA-Banner-for-ICAP-Website.jpg
END:VEVENT
END:VCALENDAR